BEGIN:VCALENDAR
VERSION:2.0
PRODID:-//ChamberMaster//Event Calendar 2.0//EN
METHOD:PUBLISH
X-PUBLISHED-TTL:P3D
REFRESH-INTERVAL:P3D
CALSCALE:GREGORIAN
BEGIN:VEVENT
DTSTART:20210519T130000Z
DTEND:20210519T140000Z
X-MICROSOFT-CDO-ALLDAYEVENT:FALSE
SUMMARY:BIZLINKT Zoom Networking Meeting
DESCRIPTION:Meets the First and Third Wednesday of every month.\nBizLinKT meetings are now open to all business categories and is free to chamber members in good standing.\n\nMeetings are held on the first and third Wednesday of the month at 9:00 AM via Zoom. Please register in advance and join us!
X-ALT-DESC;FMTTYPE=text/html:Meets the First and Third Wednesday of every month.\n<p class="over_outline" style="color: rgb(51\, 51\, 51)\; font-family: sans-serif\, Arial\, Verdana\, &quot\;Trebuchet MS&quot\;\; font-size: 13px\;"><strong>BizLinKT meetings are now open to all business categories and is free to chamber members in good standing.</strong></p>\n\n<p class="over_outline" style="color: rgb(51\, 51\, 51)\; font-family: sans-serif\, Arial\, Verdana\, &quot\;Trebuchet MS&quot\;\; font-size: 13px\;"><strong>Meetings are held on the first and third</strong><strong>&nbsp\;Wednesday of the month&nbsp\;at 9:00 AM via Zoom. Please register in advance and join us!</strong></p>\n
LOCATION:Topic: BizLinKT Zoom Meeting Time: This is a recurring meeting
UID:e.2598.5180
SEQUENCE:3
DTSTAMP:20260424T175928Z
URL:https://business.kentonchamber.org/events/details/bizlinkt-zoom-networking-meeting-05-19-2021-5180
END:VEVENT

END:VCALENDAR
