BEGIN:VCALENDAR
VERSION:2.0
PRODID:-//ChamberMaster//Event Calendar 2.0//EN
METHOD:PUBLISH
X-PUBLISHED-TTL:P3D
REFRESH-INTERVAL:P3D
CALSCALE:GREGORIAN
BEGIN:VEVENT
DTSTART:20260528T210000Z
DTEND:20260528T230000Z
X-MICROSOFT-CDO-ALLDAYEVENT:FALSE
SUMMARY:Happy Hour Ken-Ton Chamber and KBA - Free Event
DESCRIPTION:Join the Kenmore Business Association (KBA) and Kenmore-Tonawanda Chamber of Commerce (KTCC) for our next Networking Happy Hour at Buffalo Golf House!\n\n\nThis casual networking event is a great opportunity to connect with fellow business owners\, professionals\, and community members in a relaxed and engaging setting. Guests will have the chance to experience the golf simulator thanks to our host\, along with the opportunity to enter a gift card raffle generously donated by Buffalo Golf House.\n\nThis event also serves as a fun kickoff to our upcoming golf tournament season so come ready to network\, have fun\, and make new connections!
X-ALT-DESC;FMTTYPE=text/html:<p data-end="196" data-start="118"><span style="font-size:18px\;">Join the Kenmore Business Association (KBA) and Kenmore-Tonawanda Chamber of Commerce (KTCC) for our next Networking Happy Hour at Buffalo Golf House!</span></p>\n\n<div data-end="196" data-start="118">\n<p data-end="493" data-start="152"><span style="font-size:18px\;">This casual networking event is a great opportunity to connect with fellow business owners\, professionals\, and community members in a relaxed and engaging setting. Guests will have the chance to experience the golf simulator thanks to our host\, along with the opportunity to enter a gift card raffle generously donated by Buffalo Golf House.</span></p>\n\n<p data-end="635" data-start="495"><span style="font-size:18px\;">This event also serves as a fun kickoff to our upcoming golf tournament season so come ready to network\, have fun\, and make new connections!</span></p>\n</div>\n
LOCATION:Buffalo Golf House 1242 Niagara Falls Blvd\, Tonawanda NY 14150
UID:e.2598.7192
SEQUENCE:3
DTSTAMP:20260421T200518Z
URL:https://business.kentonchamber.org/events/details/happy-hour-ken-ton-chamber-and-kba-free-event-7192
END:VEVENT

END:VCALENDAR
